BEGIN:VCALENDAR
VERSION:2.0
PRODID:-//TANDEM - ECPv6.14.2//NONSGML v1.0//EN
CALSCALE:GREGORIAN
METHOD:PUBLISH
X-WR-CALNAME:TANDEM
X-ORIGINAL-URL:https://tandemproject.eu
X-WR-CALDESC:Events for TANDEM
REFRESH-INTERVAL;VALUE=DURATION:PT1H
X-Robots-Tag:noindex
X-PUBLISHED-TTL:PT1H
BEGIN:VTIMEZONE
TZID:Europe/Paris
BEGIN:DAYLIGHT
TZOFFSETFROM:+0100
TZOFFSETTO:+0200
TZNAME:CEST
DTSTART:20250330T010000
END:DAYLIGHT
BEGIN:STANDARD
TZOFFSETFROM:+0200
TZOFFSETTO:+0100
TZNAME:CET
DTSTART:20251026T010000
END:STANDARD
END:VTIMEZONE
BEGIN:VEVENT
DTSTART;TZID=Europe/Paris:20250326T103000
DTEND;TZID=Europe/Paris:20250326T170000
DTSTAMP:20260421T194451
CREATED:20250122T164143Z
LAST-MODIFIED:20250122T164326Z
UID:1789-1742985000-1743008400@tandemproject.eu
SUMMARY:TANDEM Stakeholder Engagement Workshop
DESCRIPTION:Join us for our Stakeholder Engagement Workshop on 26 March 2025 in Brussels. This workshop aims to share the best practices and lessons learnt from TANDEM and other EU related initiatives as well as develop a set of practical recommendations for improving stakeholder engagement processes to harness even stronger collaboration among networks. \nThe workshop will: \n\nFacilitate peer-to-peer learning and exchange of best practices among participants on stakeholder engagement strategies.\nIdentify key challenges and opportunities for effective stakeholder engagement in the context of nuclear research and SMRs.\nDevelop actionable policy recommendations for enhancing stakeholder engagement processes at different levels (EU\, national\, regional\, local).\n\nRegister now! \n\n\n\nTiming \nTopic \nSpeaker \n\n\n10:30 \nWelcome & Introduction \nCEA \n\n\n10:45 \nShort overview of the TANDEM EU Project \nCEA \n\n\n11:00 \nFeedback of the actions stakeholder engagement actions undertaken by TANDEM \nVTT \n\n\n11:30 \nRountable 1: Experience sharing  \nParticipants to share their own experience in terms of stakeholder engagement\, including challenges faced \nAll participants \n\n\n12:30 \nLunch break \n \n\n\n13:30 \nRountable 2: Brainstorming   \nWhich stakeholders should be engaged in the debate and at which level (EU\, national\, regional\, local)  \nIdentification of different ways of building and maintaining trust  \nEngagement with specific audiences (e.g. women\, immigrants)  \nIdentification of useful tools \nAll participants \n\n\n14:30 \nCoffee break \n \n\n\n14:45 \nRountable 2 continues \nAll participants \n\n\n15:45 \nPolicy recommendations (discussion) \nAll participants \n\n\n16:15 \nConcluding remarks and next steps \nVTT \n\n\n\n 
URL:https://tandemproject.eu/event/tandem-stakeholder-engagement-workshop/
LOCATION:Avenue des Arts 56\, 1000 Brussels\, Begium
END:VEVENT
END:VCALENDAR