BEGIN:VCALENDAR
VERSION:2.0
PRODID:-//TANDEM - ECPv6.14.2//NONSGML v1.0//EN
CALSCALE:GREGORIAN
METHOD:PUBLISH
X-ORIGINAL-URL:https://tandemproject.eu
X-WR-CALDESC:Events for TANDEM
REFRESH-INTERVAL;VALUE=DURATION:PT1H
X-Robots-Tag:noindex
X-PUBLISHED-TTL:PT1H
BEGIN:VTIMEZONE
TZID:Europe/Paris
BEGIN:DAYLIGHT
TZOFFSETFROM:+0100
TZOFFSETTO:+0200
TZNAME:CEST
DTSTART:20240331T010000
END:DAYLIGHT
BEGIN:STANDARD
TZOFFSETFROM:+0200
TZOFFSETTO:+0100
TZNAME:CET
DTSTART:20241027T010000
END:STANDARD
END:VTIMEZONE
BEGIN:VEVENT
DTSTART;TZID=Europe/Paris:20240621T170000
DTEND;TZID=Europe/Paris:20240621T190000
DTSTAMP:20260421T135312
CREATED:20240516T150645Z
LAST-MODIFIED:20240516T150645Z
UID:1654-1718989200-1718996400@tandemproject.eu
SUMMARY:Webinar Series: Technoeconomic Modelling & Simulation of Integrated Energy Systems
DESCRIPTION:Webinar Series: Dr. Elizabeth Worsham on ‘Technoeconomic Modelling & Simulation of Integrated Energy Systems’ on Friday 21st June 2024 at 17:00 CEST. \nDr. Elizabeth Worsham is a Systems Integration Engineer at Idaho National Laboratory in Idaho Falls\, Idaho. Her work includes modeling and analysis of nuclear heat and power systems and economic analysis of power and product markets. Elizabeth supports the lab’s efforts decarbonize the industrial heat and power sector through integration of advanced reactors and SMRs. Specifically\, she leads the group investigating decarbonizing pulp and paper mills with nuclear energy. In addition\, Dr. Worsham supports international collaborations through the Department of State’s Foundational Infrastructure for the Responsible use of SMR Technology (FIRST) as a subject matter expert on non-electric applications for nuclear power. Elizabeth received her bachelor’s degree in mechanical engineering from Embry-Riddle Aeronautical University (2017) and PhD in Mechanical Engineering from North Carolina State University (2020). \nRegister here. \nThis webinar series is held in the framework of the TANDEM project in cooperation with the ENEN++ project and is organised by  the University of Pisa\, CIRTEN.
URL:https://tandemproject.eu/event/webinar-series-technoeconomic-modelling-simulation-of-integrated-energy-systems/
CATEGORIES:Online
END:VEVENT
END:VCALENDAR