BEGIN:VCALENDAR
VERSION:2.0
PRODID:-//TANDEM - ECPv6.14.2//NONSGML v1.0//EN
CALSCALE:GREGORIAN
METHOD:PUBLISH
X-ORIGINAL-URL:https://tandemproject.eu
X-WR-CALDESC:Events for TANDEM
REFRESH-INTERVAL;VALUE=DURATION:PT1H
X-Robots-Tag:noindex
X-PUBLISHED-TTL:PT1H
BEGIN:VTIMEZONE
TZID:Europe/Paris
BEGIN:DAYLIGHT
TZOFFSETFROM:+0100
TZOFFSETTO:+0200
TZNAME:CEST
DTSTART:20240331T010000
END:DAYLIGHT
BEGIN:STANDARD
TZOFFSETFROM:+0200
TZOFFSETTO:+0100
TZNAME:CET
DTSTART:20241027T010000
END:STANDARD
END:VTIMEZONE
BEGIN:VEVENT
DTSTART;TZID=Europe/Paris:20240426T150000
DTEND;TZID=Europe/Paris:20240426T170000
DTSTAMP:20260421T120959
CREATED:20240411T084520Z
LAST-MODIFIED:20240411T103453Z
UID:1635-1714143600-1714150800@tandemproject.eu
SUMMARY:Webinar Series: Koroush Shirvan on Economy of Scale vs Multiples
DESCRIPTION:Webinar Series: Koroush Shirvan on Economy of Scale vs Multiples: Bottom-up Cost Estimation of Nuclear Reactors on Friday 26 April 2024 at 15:00 CEST. \nPr. Koroush Shirvan is a professor of nuclear science and engineering at Massachusetts Institute of Technology and the current Co-Director of Reactor Technology Course for Utility Executives by National Academy for Nuclear Training\, Director of Accident Tolerant Fuel Integrated Research Project (IRP) and PI of MIT ARC-20 project as part of the Advanced Demonstration Reactor Program. His research focuses on innovations in reactor design and fuel engineering. \nIn 2021\, Prof. Shirvan released the first open-source tool for cost estimation of existing and advanced nuclear architectures. The tool and its insights are currently utilized by policy makers and energy community worldwide. He is an active consultant to the nuclear industry on matters of digital engineering\, cost\, safety\, use of AI/ML\, and fuel technology. \nPr. Shirvan received his PhD from MIT in 2012. He has been the lead supervisor of over 50 graduate thesis and current is supervising 17 graduate students. His work on fuels has led into multiple awards including the Reactor Technology Award from American Nuclear Society in 2022. \nFind more information and registration\, here. \nThis webinar series is held in the framework of the TANDEM project in cooperation with the ENEN++ project and is organised by  the University of Pisa\, CIRTEN.
URL:https://tandemproject.eu/event/webinar-series-koroush-shirvan-on-economy-of-scale-vs-multiples/
CATEGORIES:In-person
END:VEVENT
END:VCALENDAR